BEGIN:VCALENDAR
VERSION:2.0
PRODID:-//Bus Stop Films Learning Portal - ECPv5.3.1.1//NONSGML v1.0//EN
CALSCALE:GREGORIAN
METHOD:PUBLISH
X-WR-CALNAME:Bus Stop Films Learning Portal
X-ORIGINAL-URL:https://learningportal.busstopfilms.com.au
X-WR-CALDESC:Events for Bus Stop Films Learning Portal
BEGIN:VTIMEZONE
TZID:Asia/Tokyo
BEGIN:STANDARD
TZOFFSETFROM:+0900
TZOFFSETTO:+0900
TZNAME:JST
DTSTART:20200101T000000
END:STANDARD
END:VTIMEZONE
BEGIN:VEVENT
DTSTART;TZID=Asia/Tokyo:20201009T184500
DTEND;TZID=Asia/Tokyo:20201009T193000
DTSTAMP:20210226T160706
CREATED:20200810T041243Z
LAST-MODIFIED:20200810T041246Z
UID:2432-1602269100-1602271800@learningportal.busstopfilms.com.au
SUMMARY:End of Term Celebration!
DESCRIPTION:Get dressed up and let’s catch up on your favourite part of Term 3.\nHow to join:\nClick on the join link below and type in the password when prompted. Enjoy! \nJoin Movie Charades \nPassword: 047575 \n			 \n			 \n				\n				\n				\n				\n				\n				\n	More Events\n\nThere are no upcoming events at this time.
URL:https://learningportal.busstopfilms.com.au/event/end-of-term-celebration/
CATEGORIES:End of Term Celebration
END:VEVENT
END:VCALENDAR