BEGIN:VCALENDAR
VERSION:2.0
PRODID:-//Bus Stop Films Learning Portal - ECPv5.3.1.1//NONSGML v1.0//EN
CALSCALE:GREGORIAN
METHOD:PUBLISH
X-WR-CALNAME:Bus Stop Films Learning Portal
X-ORIGINAL-URL:https://learningportal.busstopfilms.com.au
X-WR-CALDESC:Events for Bus Stop Films Learning Portal
BEGIN:VTIMEZONE
TZID:Asia/Tokyo
BEGIN:STANDARD
TZOFFSETFROM:+0900
TZOFFSETTO:+0900
TZNAME:JST
DTSTART:20200101T000000
END:STANDARD
END:VTIMEZONE
BEGIN:VEVENT
DTSTART;TZID=Asia/Tokyo:20200626T183000
DTEND;TZID=Asia/Tokyo:20200626T193000
DTSTAMP:20210226T162605
CREATED:20200507T031029Z
LAST-MODIFIED:20200618T090634Z
UID:1407-1593196200-1593199800@learningportal.busstopfilms.com.au
SUMMARY:Movie Trivia Night
DESCRIPTION:How to join:\nClick on the join link below and type in the password when prompted. Enjoy! \nJoin Movie Trivia Night \nPassword: 269112 \n			 \n			 \n				\n				\n				\n				\n				\n				\n	More Events\n\nThere are no upcoming events at this time.
URL:https://learningportal.busstopfilms.com.au/event/movie-trivia-night-friday-june-26th-2020/
CATEGORIES:Movie Trivia Night
END:VEVENT
END:VCALENDAR