BEGIN:VCALENDAR
VERSION:2.0
PRODID:-//Bus Stop Films Learning Portal - ECPv5.3.1.1//NONSGML v1.0//EN
CALSCALE:GREGORIAN
METHOD:PUBLISH
X-WR-CALNAME:Bus Stop Films Learning Portal
X-ORIGINAL-URL:https://learningportal.busstopfilms.com.au
X-WR-CALDESC:Events for Bus Stop Films Learning Portal
BEGIN:VTIMEZONE
TZID:Asia/Tokyo
BEGIN:STANDARD
TZOFFSETFROM:+0900
TZOFFSETTO:+0900
TZNAME:JST
DTSTART:20200101T000000
END:STANDARD
END:VTIMEZONE
BEGIN:VEVENT
DTSTART;TZID=Asia/Tokyo:20200925T184500
DTEND;TZID=Asia/Tokyo:20200925T193000
DTSTAMP:20210226T161006
CREATED:20200810T040824Z
LAST-MODIFIED:20200810T040828Z
UID:2423-1601059500-1601062200@learningportal.busstopfilms.com.au
SUMMARY:Snack and Chat - TV Edition
DESCRIPTION:How to join:\nClick on the join link below and type in the password when prompted. Enjoy! \nJoin Snack and Chat – TV Edition \nPassword: 047575 \n			 \n			 \n				\n				\n				\n				\n				\n				\n	More Events\n\nThere are no upcoming events at this time.
URL:https://learningportal.busstopfilms.com.au/event/snack-and-chat-tv-edition/
CATEGORIES:Snack & Chat
END:VEVENT
END:VCALENDAR