BEGIN:VCALENDAR
VERSION:2.0
PRODID:-//Bus Stop Films Learning Portal - ECPv5.3.1.1//NONSGML v1.0//EN
CALSCALE:GREGORIAN
METHOD:PUBLISH
X-WR-CALNAME:Bus Stop Films Learning Portal
X-ORIGINAL-URL:https://learningportal.busstopfilms.com.au
X-WR-CALDESC:Events for Bus Stop Films Learning Portal
BEGIN:VTIMEZONE
TZID:Asia/Tokyo
BEGIN:STANDARD
TZOFFSETFROM:+0900
TZOFFSETTO:+0900
TZNAME:JST
DTSTART:20200101T000000
END:STANDARD
END:VTIMEZONE
BEGIN:VEVENT
DTSTART;TZID=Asia/Tokyo:20200515T183000
DTEND;TZID=Asia/Tokyo:20200515T193000
DTSTAMP:20210226T162053
CREATED:20200507T024059Z
LAST-MODIFIED:20200507T040610Z
UID:1362-1589567400-1589571000@learningportal.busstopfilms.com.au
SUMMARY:Snack and Chat
DESCRIPTION:How to join:\nClick on the join link below and type in the password when prompted. Enjoy! \nJoin Snack & Chat \nPassword: 817579 \n			 \n			 \n				\n				\n				\n				\n				\n				\n	More Events\n\nThere are no upcoming events at this time.
URL:https://learningportal.busstopfilms.com.au/event/snack-and-snack-and-chat-friday-may-15th-2020/
CATEGORIES:Snack & Chat
END:VEVENT
END:VCALENDAR